BEGIN:VCALENDAR
VERSION:2.0
PRODID:-//hacksw/handcal//NONSGML v1.0//EN
BEGIN:VEVENT
DTSTAMP:20241115T160000Z
DTSTART:20241115T160000Z
DTEND:20241115T210000Z
SUMMARY:Sitzung des Ausschusses Zusammenarbeit Schleswig-Holstein / Hamburg
END:VEVENT
END:VCALENDAR
