BEGIN:VCALENDAR
VERSION:2.0
PRODID:-//hacksw/handcal//NONSGML v1.0//EN
BEGIN:VEVENT
DTSTAMP:20241114T080000Z
DTSTART:20241114T080000Z
DTEND:20241114T090000Z
LOCATION:Landeshaus, Kiel, Deutschland
SUMMARY:FAK Soziales (Schwerpunkt Thema "Geburtsstation Geesthacht")
END:VEVENT
END:VCALENDAR
