BEGIN:VCALENDAR
VERSION:2.0
PRODID:-//hacksw/handcal//NONSGML v1.0//EN
BEGIN:VEVENT
DTSTAMP:20241113T163000Z
DTSTART:20241113T163000Z
DTEND:20241113T180000Z
SUMMARY:Mitgliederversammlung Freundeskreis Karlheinz Goedtke
END:VEVENT
END:VCALENDAR
