BEGIN:VCALENDAR
VERSION:2.0
PRODID:-//hacksw/handcal//NONSGML v1.0//EN
BEGIN:VEVENT
DTSTAMP:20241109T090000Z
DTSTART:20241109T090000Z
DTEND:20241109T090000Z
LOCATION:Lauenburg, Deutschland
SUMMARY:"Tag und Nacht für Demokratie" mit Ministerpräsident Daniel Günther
END:VEVENT
END:VCALENDAR
