BEGIN:VCALENDAR
VERSION:2.0
PRODID:-//hacksw/handcal//NONSGML v1.0//EN
BEGIN:VEVENT
DTSTAMP:20241106T180000Z
DTSTART:20241106T180000Z
DTEND:20241106T200000Z
LOCATION:Stiftung Herzogtum Lauenburg, Mölln, Deutschland
SUMMARY:LandtagAkutell- Gespräch mit Bürgermeistern
END:VEVENT
END:VCALENDAR
