BEGIN:VCALENDAR
VERSION:2.0
PRODID:-//hacksw/handcal//NONSGML v1.0//EN
BEGIN:VEVENT
DTSTAMP:20241104T110000Z
DTSTART:20241104T110000Z
DTEND:20241104T151500Z
LOCATION:Landeshaus, Kiel, Deutschland
SUMMARY:GAK Kita
END:VEVENT
END:VCALENDAR
