BEGIN:VCALENDAR
VERSION:2.0
PRODID:-//hacksw/handcal//NONSGML v1.0//EN
BEGIN:VEVENT
DTSTAMP:20241019T080000Z
DTSTART:20241019T080000Z
DTEND:20241019T080000Z
SUMMARY:Tafel Schwarzenbek-Tag der offenen Tür
END:VEVENT
END:VCALENDAR
