BEGIN:VCALENDAR
VERSION:2.0
PRODID:-//hacksw/handcal//NONSGML v1.0//EN
BEGIN:VEVENT
DTSTAMP:20241018T080000Z
DTSTART:20241018T080000Z
DTEND:20241018T080000Z
SUMMARY:Plenartagung
END:VEVENT
END:VCALENDAR
