BEGIN:VCALENDAR
VERSION:2.0
PRODID:-//hacksw/handcal//NONSGML v1.0//EN
BEGIN:VEVENT
DTSTAMP:20241016T163000Z
DTSTART:20241016T163000Z
DTEND:20241016T163000Z
SUMMARY:Parlamentarischer Abend: DRK-Landesverband S-H e.V.
END:VEVENT
END:VCALENDAR
