BEGIN:VCALENDAR
VERSION:2.0
PRODID:-//hacksw/handcal//NONSGML v1.0//EN
BEGIN:VEVENT
DTSTAMP:20241014T151500Z
DTSTART:20241014T151500Z
DTEND:20241014T151500Z
SUMMARY:Gespräch mit Vors. Inklusionsbeirat Stadt Ratzeburg und des Amtes Lbg Seen
END:VEVENT
END:VCALENDAR
