BEGIN:VCALENDAR
VERSION:2.0
PRODID:-//hacksw/handcal//NONSGML v1.0//EN
BEGIN:VEVENT
DTSTAMP:20241013T130000Z
DTSTART:20241013T130000Z
DTEND:20241013T130000Z
LOCATION:Auxilium Hospiz Geesthacht, Geesthacht, Deutschland
SUMMARY:Auxilium Hospiz Geesthacht: zum Welthospiztag - Hospiz für Vielfalt
END:VEVENT
END:VCALENDAR
