BEGIN:VCALENDAR
VERSION:2.0
PRODID:-//hacksw/handcal//NONSGML v1.0//EN
BEGIN:VEVENT
DTSTAMP:20241009T110000Z
DTSTART:20241009T110000Z
DTEND:20241009T160000Z
LOCATION:Kiel, Deutschland
SUMMARY:FAK Soziales: Klausurtagung zum Haushalt 2025
END:VEVENT
END:VCALENDAR
