BEGIN:VCALENDAR
VERSION:2.0
PRODID:-//hacksw/handcal//NONSGML v1.0//EN
BEGIN:VEVENT
DTSTAMP:20241008T120000Z
DTSTART:20241008T120000Z
DTEND:20241008T150000Z
LOCATION:Landeshaus, Kiel, Deutschland
SUMMARY:Sitzung CDU-Landtagsfraktion
END:VEVENT
END:VCALENDAR
