BEGIN:VCALENDAR
VERSION:2.0
PRODID:-//hacksw/handcal//NONSGML v1.0//EN
BEGIN:VEVENT
DTSTAMP:20241008T080000Z
DTSTART:20241008T080000Z
DTEND:20241008T100000Z
LOCATION:Landeshaus, Kiel, Deutschland
SUMMARY:Sitzung des erweiterten Fraktionsvorstandes der CDU Landtagsfraktion
END:VEVENT
END:VCALENDAR
