BEGIN:VCALENDAR
VERSION:2.0
PRODID:-//hacksw/handcal//NONSGML v1.0//EN
BEGIN:VEVENT
DTSTAMP:20241007T080000Z
DTSTART:20241007T080000Z
DTEND:20241007T150000Z
LOCATION:Landeshaus, Kiel, Deutschland
SUMMARY:Haushaltsklausurtagung der CDU-Landtagsfraktion
END:VEVENT
END:VCALENDAR
