BEGIN:VCALENDAR
VERSION:2.0
PRODID:-//hacksw/handcal//NONSGML v1.0//EN
BEGIN:VEVENT
DTSTAMP:20241002T133000Z
DTSTART:20241002T133000Z
DTEND:20241002T150000Z
LOCATION:An der Kapelle, Geesthacht, Deutschland
SUMMARY:Einheitsbuddeln mit der CDU Geestacht
END:VEVENT
END:VCALENDAR
