BEGIN:VCALENDAR
VERSION:2.0
PRODID:-//hacksw/handcal//NONSGML v1.0//EN
BEGIN:VEVENT
DTSTAMP:20241001T163000Z
DTSTART:20241001T163000Z
DTEND:20241001T200000Z
LOCATION:Holstenhallen, Kiel, Deutschland
SUMMARY:Parteitag der CDU Schleswig-Holstein
END:VEVENT
END:VCALENDAR
