BEGIN:VCALENDAR
VERSION:2.0
PRODID:-//hacksw/handcal//NONSGML v1.0//EN
BEGIN:VEVENT
DTSTAMP:20240930T120000Z
DTSTART:20240930T120000Z
DTEND:20240930T140000Z
LOCATION:Landeshaus, Kiel, Deutschland
SUMMARY:GAK KITA
END:VEVENT
END:VCALENDAR
