BEGIN:VCALENDAR
VERSION:2.0
PRODID:-//hacksw/handcal//NONSGML v1.0//EN
BEGIN:VEVENT
DTSTAMP:20240929T081500Z
DTSTART:20240929T081500Z
DTEND:20240929T130000Z
LOCATION:Ratzeburger Dom, Ratzeburg, Deutschland
SUMMARY:Festgottesdienst zum Abschluss der Sanierungsarbeiten des Ratzeburger Doms
END:VEVENT
END:VCALENDAR
