BEGIN:VCALENDAR
VERSION:2.0
PRODID:-//hacksw/handcal//NONSGML v1.0//EN
BEGIN:VEVENT
DTSTAMP:20240928T140000Z
DTSTART:20240928T140000Z
DTEND:20240928T160000Z
LOCATION:CDU Kreisgeschäftsstelle, ratzeburg, Deutschland
SUMMARY:Kreisverbandstag der Jungen Union Herzogtum Lauenburg
END:VEVENT
END:VCALENDAR
