BEGIN:VCALENDAR
VERSION:2.0
PRODID:-//hacksw/handcal//NONSGML v1.0//EN
BEGIN:VEVENT
DTSTAMP:20240926T140000Z
DTSTART:20240926T140000Z
DTEND:20240926T150000Z
LOCATION:Landeshaus, Kiel, Deutschland
SUMMARY:Sondersitzung zum Thema Johanniter. Krankenhaus Geesthacht
END:VEVENT
END:VCALENDAR
