BEGIN:VCALENDAR
VERSION:2.0
PRODID:-//hacksw/handcal//NONSGML v1.0//EN
BEGIN:VEVENT
DTSTAMP:20240926T080000Z
DTSTART:20240926T080000Z
DTEND:20240926T160000Z
LOCATION:Landeshaus, Kiel, Deutschland
SUMMARY:Plenartagung Schleswig-Holsteinischer Landtag
END:VEVENT
END:VCALENDAR
