BEGIN:VCALENDAR
VERSION:2.0
PRODID:-//hacksw/handcal//NONSGML v1.0//EN
BEGIN:VEVENT
DTSTAMP:20240925T170000Z
DTSTART:20240925T170000Z
DTEND:20240925T200000Z
LOCATION:Landeshaus, Kiel, Deutschland
SUMMARY:Parlamentarischer Abend vom Hospiz- und Palliativverband S-H 
END:VEVENT
END:VCALENDAR
