BEGIN:VCALENDAR
VERSION:2.0
PRODID:-//hacksw/handcal//NONSGML v1.0//EN
BEGIN:VEVENT
DTSTAMP:20240924T170000Z
DTSTART:20240924T170000Z
DTEND:20240924T200000Z
LOCATION:Landeshaus, Kiel, Deutschland
SUMMARY:FördeForum: KITA
END:VEVENT
END:VCALENDAR
