BEGIN:VCALENDAR
VERSION:2.0
PRODID:-//hacksw/handcal//NONSGML v1.0//EN
BEGIN:VEVENT
DTSTAMP:20240924T120000Z
DTSTART:20240924T120000Z
DTEND:20240924T140000Z
LOCATION:Landeshaus, Kiel, Deutschland
SUMMARY:Sitzung der CDU Landtagsfraktion
END:VEVENT
END:VCALENDAR
