BEGIN:VCALENDAR
VERSION:2.0
PRODID:-//hacksw/handcal//NONSGML v1.0//EN
BEGIN:VEVENT
DTSTAMP:20240920T150000Z
DTSTART:20240920T150000Z
DTEND:20240920T150000Z
SUMMARY:Ausschuss Zusammenarbeit der Länder S-H und HH
END:VEVENT
END:VCALENDAR
