BEGIN:VCALENDAR
VERSION:2.0
PRODID:-//hacksw/handcal//NONSGML v1.0//EN
BEGIN:VEVENT
DTSTAMP:20240918T130000Z
DTSTART:20240918T130000Z
DTEND:20240918T130000Z
SUMMARY:Auftaktveranstaltung zur Erstellung eines Aktionsplans Inklusion für S'bek
END:VEVENT
END:VCALENDAR
