BEGIN:VCALENDAR
VERSION:2.0
PRODID:-//hacksw/handcal//NONSGML v1.0//EN
BEGIN:VEVENT
DTSTAMP:20240917T170000Z
DTSTART:20240917T170000Z
DTEND:20240917T170000Z
SUMMARY:3. Vorstellung der Kandidaten/innen zur BTW für den WK 10
END:VEVENT
END:VCALENDAR
