BEGIN:VCALENDAR
VERSION:2.0
PRODID:-//hacksw/handcal//NONSGML v1.0//EN
BEGIN:VEVENT
DTSTAMP:20240917T143000Z
DTSTART:20240917T143000Z
DTEND:20240917T143000Z
SUMMARY:MP Hendrik Wüst in der CDU-Landtagsfraktion
END:VEVENT
END:VCALENDAR
