BEGIN:VCALENDAR
VERSION:2.0
PRODID:-//hacksw/handcal//NONSGML v1.0//EN
BEGIN:VEVENT
DTSTAMP:20240912T163000Z
DTSTART:20240912T163000Z
DTEND:20240912T163000Z
SUMMARY:Festakt Stadt Schwarzenbek: 75 Jahre Grundgesetz
END:VEVENT
END:VCALENDAR
