BEGIN:VCALENDAR
VERSION:2.0
PRODID:-//hacksw/handcal//NONSGML v1.0//EN
BEGIN:VEVENT
DTSTAMP:20240910T110000Z
DTSTART:20240910T110000Z
DTEND:20240910T110000Z
SUMMARY:FAK Finanzen: Gespräch mit Bürgermeister der Gemeinde Elmenhorst
END:VEVENT
END:VCALENDAR
