BEGIN:VCALENDAR
VERSION:2.0
PRODID:-//hacksw/handcal//NONSGML v1.0//EN
BEGIN:VEVENT
DTSTAMP:20240909T070000Z
DTSTART:20240909T070000Z
DTEND:20240909T070000Z
SUMMARY:Besuch Auxilium Hospiz Geesthacht
END:VEVENT
END:VCALENDAR
