BEGIN:VCALENDAR
VERSION:2.0
PRODID:-//hacksw/handcal//NONSGML v1.0//EN
BEGIN:VEVENT
DTSTAMP:20240906T170000Z
DTSTART:20240906T170000Z
DTEND:20240906T170000Z
SUMMARY:Jahresveranstaltung Förderverein Otto-von-Bismarck-Stiftung
END:VEVENT
END:VCALENDAR
