BEGIN:VCALENDAR
VERSION:2.0
PRODID:-//hacksw/handcal//NONSGML v1.0//EN
BEGIN:VEVENT
DTSTAMP:20240906T163000Z
DTSTART:20240906T163000Z
DTEND:20240906T163000Z
SUMMARY:Grillabend der CDU OVs Schwarzenbek, Büchen, Güster, Gudow und Witzeeze
END:VEVENT
END:VCALENDAR
