BEGIN:VCALENDAR
VERSION:2.0
PRODID:-//hacksw/handcal//NONSGML v1.0//EN
BEGIN:VEVENT
DTSTAMP:20240831T090000Z
DTSTART:20240831T090000Z
DTEND:20240831T090000Z
SUMMARY:Blaulicht-Kinderfest in Wohltorf
END:VEVENT
END:VCALENDAR
