BEGIN:VCALENDAR
VERSION:2.0
PRODID:-//hacksw/handcal//NONSGML v1.0//EN
BEGIN:VEVENT
DTSTAMP:20240830T103000Z
DTSTART:20240830T103000Z
DTEND:20240830T103000Z
SUMMARY:FAK Soziales: Mittagessen
END:VEVENT
END:VCALENDAR
