BEGIN:VCALENDAR
VERSION:2.0
PRODID:-//hacksw/handcal//NONSGML v1.0//EN
BEGIN:VEVENT
DTSTAMP:20240828T163000Z
DTSTART:20240828T163000Z
DTEND:20240828T163000Z
SUMMARY:"Stallwache" der CDU-Landtagsfraktion
END:VEVENT
END:VCALENDAR
