BEGIN:VCALENDAR
VERSION:2.0
PRODID:-//hacksw/handcal//NONSGML v1.0//EN
BEGIN:VEVENT
DTSTAMP:20240828T120000Z
DTSTART:20240828T120000Z
DTEND:20240828T120000Z
SUMMARY:FAK Soziales/Kita
END:VEVENT
END:VCALENDAR
