BEGIN:VCALENDAR
VERSION:2.0
PRODID:-//hacksw/handcal//NONSGML v1.0//EN
BEGIN:VEVENT
DTSTAMP:20240824T150000Z
DTSTART:20240824T150000Z
DTEND:20240824T150000Z
SUMMARY:Jubiläumsfeier (60 Jahre) der Jugendfeuerwehr Aumühle
END:VEVENT
END:VCALENDAR
