BEGIN:VCALENDAR
VERSION:2.0
PRODID:-//hacksw/handcal//NONSGML v1.0//EN
BEGIN:VEVENT
DTSTAMP:20240823T150000Z
DTSTART:20240823T150000Z
DTEND:20240823T150000Z
SUMMARY:Jubiläumsfest der Blaulicht-Minis und Jugendfeuerwehr Aumühle
END:VEVENT
END:VCALENDAR
