BEGIN:VCALENDAR
VERSION:2.0
PRODID:-//hacksw/handcal//NONSGML v1.0//EN
BEGIN:VEVENT
DTSTAMP:20240719T160000Z
DTSTART:20240719T160000Z
DTEND:20240719T160000Z
SUMMARY:TuS Aumühle-Wohltorf : Abrissparty im Sportheim
END:VEVENT
END:VCALENDAR
