BEGIN:VCALENDAR
VERSION:2.0
PRODID:-//hacksw/handcal//NONSGML v1.0//EN
BEGIN:VEVENT
DTSTAMP:20240718T160000Z
DTSTART:20240718T160000Z
DTEND:20240718T160000Z
SUMMARY:Veranstaltung der CDU-Landtagsfraktion mit B'90/Die Grünen
END:VEVENT
END:VCALENDAR
