BEGIN:VCALENDAR
VERSION:2.0
PRODID:-//hacksw/handcal//NONSGML v1.0//EN
BEGIN:VEVENT
DTSTAMP:20240717T160000Z
DTSTART:20240717T160000Z
DTEND:20240717T160000Z
SUMMARY:19. Parlamentarischer Abend der Kommunalen Landesverbände des Landes S-H
END:VEVENT
END:VCALENDAR
