BEGIN:VCALENDAR
VERSION:2.0
PRODID:-//hacksw/handcal//NONSGML v1.0//EN
BEGIN:VEVENT
DTSTAMP:20240716T080000Z
DTSTART:20240716T080000Z
DTEND:20240716T080000Z
SUMMARY:Sitzung des erweiterten Fraktionsvorstandes
END:VEVENT
END:VCALENDAR
