BEGIN:VCALENDAR
VERSION:2.0
PRODID:-//hacksw/handcal//NONSGML v1.0//EN
BEGIN:VEVENT
DTSTAMP:20240712T113000Z
DTSTART:20240712T113000Z
DTEND:20240712T113000Z
SUMMARY:Schulleiter Grundschule Aumühle: Einstieg in den Ruhestand
END:VEVENT
END:VCALENDAR
