BEGIN:VCALENDAR
VERSION:2.0
PRODID:-//hacksw/handcal//NONSGML v1.0//EN
BEGIN:VEVENT
DTSTAMP:20240711T090000Z
DTSTART:20240711T090000Z
DTEND:20240711T090000Z
SUMMARY:GAK Soziales mit Bildungsministerin
END:VEVENT
END:VCALENDAR
