BEGIN:VCALENDAR
VERSION:2.0
PRODID:-//hacksw/handcal//NONSGML v1.0//EN
BEGIN:VEVENT
DTSTAMP:20240710T161500Z
DTSTART:20240710T161500Z
DTEND:20240710T161500Z
SUMMARY:Vorstandssitzung PGSH e.V.
END:VEVENT
END:VCALENDAR
