BEGIN:VCALENDAR
VERSION:2.0
PRODID:-//hacksw/handcal//NONSGML v1.0//EN
BEGIN:VEVENT
DTSTAMP:20240710T100000Z
DTSTART:20240710T100000Z
DTEND:20240710T100000Z
SUMMARY:GAK Bildung & Soziales
END:VEVENT
END:VCALENDAR
