BEGIN:VCALENDAR
VERSION:2.0
PRODID:-//hacksw/handcal//NONSGML v1.0//EN
BEGIN:VEVENT
DTSTAMP:20240707T063000Z
DTSTART:20240707T063000Z
DTEND:20240709T200000Z
SUMMARY:Reise Ausschuss Zusammenarbeit von S-H und HH nach Den Haag/Rotterdam
END:VEVENT
END:VCALENDAR
