BEGIN:VCALENDAR
VERSION:2.0
PRODID:-//hacksw/handcal//NONSGML v1.0//EN
BEGIN:VEVENT
DTSTAMP:20240706T120000Z
DTSTART:20240706T120000Z
DTEND:20240706T120000Z
SUMMARY:Verabschiedung Prof. Dr. Lappenküper 
END:VEVENT
END:VCALENDAR
